BEGIN:VCALENDAR
VERSION:2.0
PRODID:-//BrokerChannel | Il Magazine del Broker di Assicurazioni - ECPv6.15.18//NONSGML v1.0//EN
CALSCALE:GREGORIAN
METHOD:PUBLISH
X-ORIGINAL-URL:https://brokerchannel.it
X-WR-CALDESC:Eventi per BrokerChannel | Il Magazine del Broker di Assicurazioni
REFRESH-INTERVAL;VALUE=DURATION:PT1H
X-Robots-Tag:noindex
X-PUBLISHED-TTL:PT1H
BEGIN:VTIMEZONE
TZID:Europe/Rome
BEGIN:DAYLIGHT
TZOFFSETFROM:+0100
TZOFFSETTO:+0200
TZNAME:CEST
DTSTART:20250330T010000
END:DAYLIGHT
BEGIN:STANDARD
TZOFFSETFROM:+0200
TZOFFSETTO:+0100
TZNAME:CET
DTSTART:20251026T010000
END:STANDARD
BEGIN:DAYLIGHT
TZOFFSETFROM:+0100
TZOFFSETTO:+0200
TZNAME:CEST
DTSTART:20260329T010000
END:DAYLIGHT
BEGIN:STANDARD
TZOFFSETFROM:+0200
TZOFFSETTO:+0100
TZNAME:CET
DTSTART:20261025T010000
END:STANDARD
BEGIN:DAYLIGHT
TZOFFSETFROM:+0100
TZOFFSETTO:+0200
TZNAME:CEST
DTSTART:20270328T010000
END:DAYLIGHT
BEGIN:STANDARD
TZOFFSETFROM:+0200
TZOFFSETTO:+0100
TZNAME:CET
DTSTART:20271031T010000
END:STANDARD
END:VTIMEZONE
BEGIN:VEVENT
DTSTART;VALUE=DATE:20260413
DTEND;VALUE=DATE:20260414
DTSTAMP:20260423T143442
CREATED:20260217T192157Z
LAST-MODIFIED:20260415T210203Z
UID:4651-1776038400-1776124799@brokerchannel.it
SUMMARY:STARTER – Introduzione al claims management
DESCRIPTION:Una formazione completa per comprendere le basi tecniche\, giuridiche e operative della gestione dei sinistri non auto all’interno di compagnie assicurative\, agenzie\, broker\, studi peritali e legali.Il corso offre un ingresso guidato nel mondo del claims management\, fornendo gli strumenti fondamentali per analizzare un sinistro\, comprendere i contratti\, interagire con gli attori del processo liquidativo e applicare le tecniche operative richieste dal settore.
URL:https://brokerchannel.it/evento/starter-introduzione-al-claims-management/
LOCATION:Campus Leonardo\, Politecnico di Milano – Città Studi\, Piazza Leonardo da Vinci\, 32\,\, Milano\, Italy
ATTACH;FMTTYPE=image/webp:https://brokerchannel.it/wp-content/uploads/2026/02/IMG_7665.webp
END:VEVENT
BEGIN:VEVENT
DTSTART;VALUE=DATE:20260303
DTEND;VALUE=DATE:20260304
DTSTAMP:20260423T143442
CREATED:20260217T192730Z
LAST-MODIFIED:20260406T183717Z
UID:4656-1772496000-1772582399@brokerchannel.it
SUMMARY:La riforma della responsabilità erariale (legge 1/2026 cd legge Foti)
DESCRIPTION:L’entrata in vigore della Legge 14 gennaio 1994 n. 20 – la cosiddetta Legge Foti – ha segnato una svolta nella disciplina della responsabilità erariale\, introducendo un nuovo equilibrio tra tutela del patrimonio pubblico e responsabilità dei funzionari. Tra le innovazioni più rilevanti spicca il nuovo obbligo assicurativo\, che ridefinisce il rapporto tra azione contabile e azione civile e apre a un sistema di “doppio binario” fondato sull’esercizio obbligatorio del potere di riduzione da parte della Corte dei Conti.
URL:https://brokerchannel.it/evento/la-riforma-della-responsabilita-erariale-legge-1-2026-cd-legge-foti/
LOCATION:Muda\, Via Rugabella\, 10\, Milano\, Italy
ATTACH;FMTTYPE=image/webp:https://brokerchannel.it/wp-content/uploads/2026/02/Locandina-Hazan.png.webp
END:VEVENT
END:VCALENDAR